BEGIN:VCALENDAR
VERSION:2.0
PRODID:-//Moskee El Fath - ECPv6.3.5//NONSGML v1.0//EN
CALSCALE:GREGORIAN
METHOD:PUBLISH
X-ORIGINAL-URL:https://moskeeelfath.nl
X-WR-CALDESC:Evenementen voor Moskee El Fath
REFRESH-INTERVAL;VALUE=DURATION:PT1H
X-Robots-Tag:noindex
X-PUBLISHED-TTL:PT1H
BEGIN:VTIMEZONE
TZID:UTC
BEGIN:STANDARD
TZOFFSETFROM:+0000
TZOFFSETTO:+0000
TZNAME:UTC
DTSTART:20230101T000000
END:STANDARD
END:VTIMEZONE
BEGIN:VEVENT
DTSTART;TZID=UTC:20230319T130000
DTEND;TZID=UTC:20240519T020000
DTSTAMP:20260420T073128
CREATED:20170713T084812Z
LAST-MODIFIED:20230306T123159Z
UID:297-1679230800-1716084000@moskeeelfath.nl
SUMMARY:Zondag lessen
DESCRIPTION:Elke zondag organiseren wij een wekelijkse lezing waarin diverse onderwerpen worden behandeld.\n\n\n\nHeb jij altijd meer te weten willen komen over jouw geloof? Bezoek onze moskee elke zondag na dohr..
URL:https://moskeeelfath.nl/activiteit/zondag-lessen/
LOCATION:Moskee El Fath\, Simon Stevinweg 48-A\, Hilversum\, Noord Holland\, 1221 AE\, Nederland
ATTACH;FMTTYPE=image/jpeg:https://moskeeelfath.nl/wp-content/uploads/2017/07/Zondag-lessen.jpg
ORGANIZER;CN="Moskee El Fath":MAILTO:info@moskeeelfath.nl
END:VEVENT
END:VCALENDAR